BEGIN:VCALENDAR
PRODID:-//AT Content Types//AT Event//EN
VERSION:2.0
METHOD:PUBLISH
BEGIN:VEVENT
DTSTAMP:20260419T175618Z
CREATED:20090826T074905Z
UID:ATEvent-19641eb6ea93ecccf8993fa2724d4f28
LAST-MODIFIED:20100813T075134Z
SUMMARY:Plazandreok. Ideien bilketa eta magazinaren sorketa
DTSTART:20050203T085000Z
DTEND:20050203T175000Z
CATEGORIES:Topaketa
CLASS:PUBLIC
END:VEVENT
END:VCALENDAR
