BEGIN:VCALENDAR
PRODID:-//AT Content Types//AT Event//EN
VERSION:2.0
METHOD:PUBLISH
BEGIN:VEVENT
DTSTAMP:20260420T031149Z
CREATED:20090826T084200Z
UID:ATEvent-68e43ad79c0428cc3da056882387d1c6
LAST-MODIFIED:20100813T074423Z
SUMMARY:AVID ikastaroa. Hastapena
DTSTART:20050326T094000Z
DTEND:20050401T084000Z
DESCRIPTION:AVID sistemarako sarrerarako hainbat mikrolantegi eskaintz
 en jarraituko da –hamaseina ordu-\, AVID sistemari etekinik handiena
  ateraz modurik ezin egokiagoan bideratu daitezkeen arazo espezifikoen
  irtenbideetan lan egitearren. \nIkastaro hau nahitaez egin behar da o
 ndoren edizio gela erabili ahal izateko.
CATEGORIES:Tailerra
CLASS:PUBLIC
END:VEVENT
END:VCALENDAR
