BEGIN:VCALENDAR
PRODID:-//AT Content Types//AT Event//EN
VERSION:2.0
METHOD:PUBLISH
BEGIN:VEVENT
DTSTAMP:20260419T125150Z
CREATED:20090826T074043Z
UID:ATEvent-530104ed0ed765419e4d7b08a871c63e
LAST-MODIFIED:20100813T074528Z
SUMMARY:Sexualitatea\, teoria eta Queer ekintza
DTSTART:20050113T084000Z
DTEND:20050113T164000Z
LOCATION:Arteleku
CLASS:PUBLIC
END:VEVENT
END:VCALENDAR
