BEGIN:VCALENDAR
PRODID:-//AT Content Types//AT Event//EN
VERSION:2.0
METHOD:PUBLISH
BEGIN:VEVENT
DTSTAMP:20260425T145437Z
CREATED:20090826T094619Z
UID:ATEvent-e05e44f3ccae8f63fe6628c9a34cc107
LAST-MODIFIED:20100813T075141Z
SUMMARY:SOTOTIK webzine
DTSTART:20051119T154500Z
DTEND:20051119T174500Z
DESCRIPTION:Presentación del webzine vasco sobre música electrónica
  y en especial la vertiente mas experimental.
LOCATION:Arteleku
CATEGORIES:Presentaciones
CLASS:PUBLIC
END:VEVENT
END:VCALENDAR
