BEGIN:VCALENDAR
PRODID:-//AT Content Types//AT Event//EN
VERSION:2.0
METHOD:PUBLISH
BEGIN:VEVENT
DTSTAMP:20260424T223243Z
CREATED:20080622T220000Z
UID:ATEvent-d9a8c955a07af43dc6bc6eacfcc449e6
LAST-MODIFIED:20100813T074417Z
SUMMARY:__AUDIOLAB\: Macrofonías
DTSTART:20080622T220000Z
DTEND:20080622T220000Z
DESCRIPTION:<i>"Seguramente\, hemos pasado de la microfonía a la macr
 ofonía\, de la ayuda a la escucha\, a literalmente pisarla"</i><br>Jo
 rnadas MACROFONÍAS. Del 22 al 25 de abril de 2008.
CLASS:PUBLIC
END:VEVENT
END:VCALENDAR
