BEGIN:VCALENDAR
PRODID:-//AT Content Types//AT Event//EN
VERSION:2.0
METHOD:PUBLISH
BEGIN:VEVENT
DTSTAMP:20260425T103604Z
CREATED:20090826T102134Z
UID:ATEvent-cebb7745b82f7b2a26dc7c75b527be79
LAST-MODIFIED:20100813T074442Z
SUMMARY:Presentación de los artistas\: Apolonija Sustersic eta Pavel Büchler
DTSTART:20051004T170000Z
DTEND:20051004T182000Z
CLASS:PUBLIC
END:VEVENT
END:VCALENDAR
