BEGIN:VCALENDAR
PRODID:-//AT Content Types//AT Event//EN
VERSION:2.0
METHOD:PUBLISH
BEGIN:VEVENT
DTSTAMP:20260420T015351Z
CREATED:20090826T084200Z
UID:ATEvent-ab688a419cdc9200cb1c6203340de492
LAST-MODIFIED:20100813T074423Z
SUMMARY:Cursos AVID. Iniciación
DTSTART:20050326T094000Z
DTEND:20050401T084000Z
DESCRIPTION:Se seguirán ofreciendo diferentes microtalleres –diecis
 éis horas cada uno– de acceso al sistema AVID\, con el fin de traba
 jar en la resolución de problemas específicos que puedan ser resuelt
 os en óptimas condiciones mediante el máximo rendimiento del sistema
  AVID. Para acceder a estos talleres será imprescindible estar en pro
 ceso de trabajo con un proyecto creativo. Los diferentes proyectos que
  se presenten en cada taller serán resueltos mediante una puesta en c
 omún\, con la colaboración del técnico del AVID. De esta manera\, c
 ada grupo de trabajo se enfrentará a diferentes cuestiones técnicas 
 a la vez que se resuelven los problemas específicos de cada proyecto.
 
LOCATION:Arteleku
CATEGORIES:Ciclo de talleres
CLASS:PUBLIC
END:VEVENT
END:VCALENDAR
