BEGIN:VCALENDAR
PRODID:-//AT Content Types//AT Event//EN
VERSION:2.0
METHOD:PUBLISH
BEGIN:VEVENT
DTSTAMP:20260422T101518Z
CREATED:20100118T204427Z
UID:ATEvent-61fe5e4a6221f702739090f1d479926b
LAST-MODIFIED:20120810T142839Z
SUMMARY:SOINUMAPA.NET 2.0
DTSTART:20080125T183000Z
DTEND:20080125T203000Z
DESCRIPTION:El proyecto SOINUMAPA.NET Mapa sonoro del País vasco acab
 a de ser actualizado. Esta nueva versión incluye entre otras cosas un
  buscador de sonidos\, enlace directo con el proyecto "hermano" RE\:MA
 PA y la posibilidad de consultar la web en 3 idiomas.
LOCATION:Arteleku
CATEGORIES:Presentation,concert
CLASS:PUBLIC
END:VEVENT
END:VCALENDAR
